BEGIN:VCALENDAR
VERSION:2.0
PRODID:-//TYPO3/NONSGML Calendarize//EN
BEGIN:VEVENT
UID:calendarize-32754
DTSTART:20260616T130000Z
DTEND:20260616T151500Z
SUMMARY:VHS-Kurs ab 02.06.26: Demenz verstehen (Mitte)
DESCRIPTION:&lt;p&gt;Wie gehe ich damit um, wenn ein Angehöriger von einer Demenz betroffen ist? Dieser Kurs vermittelt Grundwissen über Demenz und die unterschiedlichen Ausprägungen. Sie entwickeln Verständnis für die ungewohnten Verhaltensweisen Ihrer/ Ihres Angehörigen und erhalten Anregungen, wie Sie die Orientierung der Person unterstützen können. Im Verlauf des Kurses lernen Sie, die Herausforderungen im täglichen Umgang zu meistern, Hilfe anzunehmen und Gelassenheit zu entwickeln. Individuelle Fragen zu Möglichkeiten der Entlastung sowie deren Finanzierungsmöglichkeiten durch die Pflegeversicherung runden den Kurs ab. Dozentin:&amp;nbsp;Marion Zimmermann. Anmeldung erforderlich!&amp;nbsp; Kursnr.: 261M81-062. Weitere Infos finden Sie &lt;a class=&quot;external-link-new-window&quot; href=&quot;https://www.vhs-bremen.de/kurssuche/kurs/Demenz-verstehen/261M81-062#&quot; title=&quot;Opens external link in new window&quot;&gt;hier &lt;/a&gt;&lt;/p&gt;
&lt;p&gt;Termine der 4teiligen kostenfreien Kursreihe:&amp;nbsp;&lt;/p&gt;
&lt;ul&gt; 	&lt;li&gt;02.06.2026 15:00 - 17:15 Uhr&lt;/li&gt; 	&lt;li&gt;09.06.2026&amp;nbsp;15:00 - 17:15 Uhr&lt;/li&gt; 	&lt;li&gt;16.06.2026&amp;nbsp;15:00 - 17:15 Uhr&lt;/li&gt; 	&lt;li&gt;23.06.2026&amp;nbsp;15:00 - 17:15 Uhr&lt;/li&gt; &lt;/ul&gt;
&lt;p&gt;Kontatakt:&lt;/p&gt;
&lt;p&gt;Bremer Volkshochschule, Faulenstraße 69, 28195 Bremen&lt;/p&gt;
&lt;p&gt;Tel. 0421 361-12345&lt;/p&gt;
&lt;p&gt;&lt;a href=&quot;mailto:info@vhs-bremen.de&quot;&gt;info@vhs-bremen.de&lt;/a&gt;&lt;/p&gt;
&lt;p&gt;&lt;a class=&quot;external-link-new-window&quot; href=&quot;https://www.vhs-bremen.de/index.php&quot; title=&quot;Opens external link in new window&quot;&gt;www.vhs-bremen.de&lt;/a&gt;&lt;/p&gt;



LOCATION:Faulenstraße 69, vhs im Bamberger, Raum wird vor Ort bekannt gegeben
END:VEVENT

END:VCALENDAR