BEGIN:VCALENDAR
VERSION:2.0
PRODID:-//TYPO3/NONSGML Calendarize//EN
BEGIN:VEVENT
UID:calendarize-33541
DTSTART:20260428T163000Z
DTEND:20260427T220000Z
SUMMARY:Lass uns über Sterben sprechen (Findorff)
DESCRIPTION:&lt;p&gt;Expertinnen und Experten aus dem&amp;nbsp;&lt;B&gt;Hospizwesen&lt;/B&gt;, der&amp;nbsp;&lt;B&gt;Rechtswissenschaft&lt;/B&gt;, dem&amp;nbsp;&lt;B&gt;Bestattungswesen&lt;/B&gt;&amp;nbsp;und der&amp;nbsp;&lt;B&gt;Stiftungsarbeit&lt;/B&gt;&amp;nbsp;geben praxisnahe Einblicke und beantworten Ihre Fragen zu folgenden Themen:&lt;/p&gt;
&lt;ul&gt; 	&lt;li&gt;&lt;strong&gt;Leben bis zuletzt – Informationen zu Hospizarbeit und Palliativversorgung&lt;/strong&gt;&lt;br /&gt; 	Karen Wauschkuhn (Verein für Innere Mission in Bremen)&lt;/li&gt; 	&lt;li&gt;&lt;strong&gt;Patientenverfügung, Vorsorgevollmacht und Testament&lt;/strong&gt;&lt;br /&gt; 	Jens Burghardt (Rechtsanwalt und Notar)&lt;/li&gt; 	&lt;li&gt;&lt;strong&gt;Bestattungsvorsorge und finanzielle Absicherung&lt;/strong&gt;&lt;br /&gt; 	Julius Stubbe (» PIETÄT « Gebr. Stubbe)&lt;/li&gt; 	&lt;li&gt;&lt;strong&gt;Das gemeinnützige Testament&lt;/strong&gt;&lt;br /&gt; 	Moritz Cavigelli (Stiftung mission:menschlich)&lt;/li&gt; &lt;/ul&gt;
&lt;p&gt;Melden Sie sich direkt online an, schreiben Sie eine Mail an stadtteilfiliale.findorff@sparkasse-bremen.de oder unter 0421/179-2753 an.&lt;/p&gt;
&lt;p&gt;Das Team der Stadtteilfiliale Findorff freut sich auf Sie!&lt;/p&gt;
LOCATION:Stadtteilfiliale Findorff, Admiralstraße 96, 28215 Bremen
END:VEVENT

END:VCALENDAR