BEGIN:VCALENDAR
VERSION:2.0
PRODID:-//TYPO3/NONSGML Calendarize//EN
BEGIN:VEVENT
UID:calendarize-33089
DTSTART:20260611T130000Z
DTEND:20260611T143000Z
SUMMARY: Innenhof-Konzert mit dem Bremer Brass Quartett (Arbergen)
DESCRIPTION:&lt;p&gt;Freuen Sie sich auf ein weiteres musikalisches Highlight. Sechs Blechbläser und ein Schlagzeuger spielen das, was in Süddeutschland, Österreich sowie Tschechien Tradition hat und an der Weser gern gehört wird: Polka, Swing, Dixieland, Walzer und Märsche. Überdies hat das Bremer-Brass-Quartett bekannte Volkslieder zum Mit-singen im Repertoire. Wo sie auftreten, ist Stimmung!&lt;/p&gt;
&lt;p&gt;Bitte anmelden!&lt;br /&gt; Zielgruppe: alle&lt;br /&gt; Informationen/Anmeldung: Tel. 69 69 59 99, Sabine Bonjer&lt;br /&gt; Kosten: keine&lt;/p&gt;
LOCATION:Stiftungsdorf Arberger Mühle, Vor dem Esch 7 
END:VEVENT

END:VCALENDAR