BEGIN:VCALENDAR
VERSION:2.0
PRODID:-//TYPO3/NONSGML Calendarize//EN
BEGIN:VEVENT
UID:calendarize-33066
DTSTART:20261109T130000Z
DTEND:20261109T150000Z
SUMMARY:AWO-Resilienzgruppe für pflegende Angehörige (Walle)
DESCRIPTION:&lt;p&gt;Das Angebot findet seit Juli 2025&amp;nbsp;immer am zweiten Donnerstag im Monat&amp;nbsp; im „Haus der Familie“ in der Dünenstraße 2–4, statt! Leitung: Ann-Katrin Godt, Diplom-Pädagogin und zertifizierte Resilienztrainerin.&lt;/p&gt;
&lt;p&gt;Nur nach vorheriger Anmeldung!&amp;nbsp;Fragen und Anmeldungen bitte per E-Mail: d.brazier@awo-bremen.de&lt;/p&gt;
&lt;p&gt;Weitere Infos finden Sie im angehängten Flyer (unten)!&amp;nbsp;&lt;/p&gt;


LOCATION:„Haus der Familie“, Dünenstraße 2–4
END:VEVENT

END:VCALENDAR